BEGIN:VCALENDAR
VERSION:2.0
PRODID:-//LWM - ECPv6.15.3//NONSGML v1.0//EN
CALSCALE:GREGORIAN
METHOD:PUBLISH
X-WR-CALNAME:LWM
X-ORIGINAL-URL:https://leswilliamsmusic.com
X-WR-CALDESC:Events for LWM
REFRESH-INTERVAL;VALUE=DURATION:PT1H
X-Robots-Tag:noindex
X-PUBLISHED-TTL:PT1H
BEGIN:VTIMEZONE
TZID:America/New_York
BEGIN:DAYLIGHT
TZOFFSETFROM:-0500
TZOFFSETTO:-0400
TZNAME:EDT
DTSTART:20250309T070000
END:DAYLIGHT
BEGIN:STANDARD
TZOFFSETFROM:-0400
TZOFFSETTO:-0500
TZNAME:EST
DTSTART:20251102T060000
END:STANDARD
END:VTIMEZONE
BEGIN:VEVENT
DTSTART;TZID=America/New_York:20250815T200000
DTEND;TZID=America/New_York:20250815T200000
DTSTAMP:20260423T024943
CREATED:20250516T132913Z
LAST-MODIFIED:20250516T132913Z
UID:175-1755288000-1755288000@leswilliamsmusic.com
SUMMARY:Dean's Place Newport\, TN
DESCRIPTION:Dean’s Place has invited Les and RBnC back to party again at their great place out in the country. \nThey have great food and wonderful people along with their desire to have FUN! Rick Barnes and Cheyenne will be there to add to the party with our Southern Rock and Outlaw / Classic Country.
URL:https://leswilliamsmusic.com/event/deans-place-newport-tn/
LOCATION:Dean’s Place Newport TN\, 7030 Armory Rd\, Newport\, TN\, 37821\, United States
CATEGORIES:Smoky Mtn Tunes & Tales RBnC
ORGANIZER;CN="Karen Cody":MAILTO:karencody45@yahoo.com
END:VEVENT
BEGIN:VEVENT
DTSTART;TZID=America/New_York:20250808T200000
DTEND;TZID=America/New_York:20250808T200000
DTSTAMP:20260423T024943
CREATED:20250516T134600Z
LAST-MODIFIED:20250516T134655Z
UID:180-1754683200-1754683200@leswilliamsmusic.com
SUMMARY:The New Buds Sports Bar
DESCRIPTION:Such a great little bar out in the middle of everywhere. Les and RBnC has played Bud’s many times over the years and always had so much fun. \nCome out and party with us once again and sample some great food and the best drinks prices around. They are great people to hang and party with.
URL:https://leswilliamsmusic.com/event/the-new-buds-sports-bar-2/
LOCATION:The New Bud’s Sports Bar\, White PinesTN\, 5858 N White Pine Rd\, White Pines\, 37816\, United States
CATEGORIES:RbnC Bar
END:VEVENT
BEGIN:VEVENT
DTSTART;TZID=America/New_York:20250719T180000
DTEND;TZID=America/New_York:20250719T220000
DTSTAMP:20260423T024943
CREATED:20250516T125600Z
LAST-MODIFIED:20250516T130159Z
UID:160-1752948000-1752962400@leswilliamsmusic.com
SUMMARY:Smoky Mountain Tunes and Tales
DESCRIPTION:Come to the mountains and eat a funnel cake while enjoying Les perform with Rick Barnes and Cheyenne at Smoky Mountain Tunes & Tales. \nSmoky Mountain Tunes & Tales is a strolling street performance event featuring musical performers\, storytellers\, cloggers and artisans in Gatlinburg.
URL:https://leswilliamsmusic.com/event/smoky-mountain-tunes-and-tales-7/
CATEGORIES:Smoky Mtn Tunes & Tales RBnC
END:VEVENT
BEGIN:VEVENT
DTSTART;TZID=America/New_York:20250714T180000
DTEND;TZID=America/New_York:20250714T220000
DTSTAMP:20260423T024943
CREATED:20250516T130343Z
LAST-MODIFIED:20250516T130351Z
UID:171-1752516000-1752530400@leswilliamsmusic.com
SUMMARY:Smoky Mountain Tunes & Tales
DESCRIPTION:Come to the mountains and eat a funnel cake while enjoying Les perform with Rick Barnes and Cheyenne at Smoky Mountain Tunes & Tales. \nSmoky Mountain Tunes & Tales is a strolling street performance event featuring musical performers\, storytellers\, cloggers and artisans in Gatlinburg.
URL:https://leswilliamsmusic.com/event/smoky-mountain-tunes-tales/
CATEGORIES:Smoky Mtn Tunes & Tales RBnC
END:VEVENT
BEGIN:VEVENT
DTSTART;TZID=America/New_York:20250713T180000
DTEND;TZID=America/New_York:20250713T220000
DTSTAMP:20260423T024943
CREATED:20250516T125416Z
LAST-MODIFIED:20250516T130143Z
UID:158-1752429600-1752444000@leswilliamsmusic.com
SUMMARY:Smoky Mountain Tunes and Tales
DESCRIPTION:Come to the mountains and eat a funnel cake while enjoying Les perform with Rick Barnes and Cheyenne at Smoky Mountain Tunes & Tales. \nSmoky Mountain Tunes & Tales is a strolling street performance event featuring musical performers\, storytellers\, cloggers and artisans in Gatlinburg.
URL:https://leswilliamsmusic.com/event/smoky-mountain-tunes-and-tales-6/
CATEGORIES:Smoky Mtn Tunes & Tales RBnC
END:VEVENT
BEGIN:VEVENT
DTSTART;TZID=America/New_York:20250710T180000
DTEND;TZID=America/New_York:20250710T220000
DTSTAMP:20260423T024943
CREATED:20250516T125338Z
LAST-MODIFIED:20250516T130118Z
UID:156-1752170400-1752184800@leswilliamsmusic.com
SUMMARY:Smoky Mountain Tunes and Tales
DESCRIPTION:Smoky Mountain Tunes and Tales \nCome to the mountains and eat a funnel cake while enjoying Les perform with Rick Barnes and Cheyenne at Smoky Mountain Tunes & Tales. \nSmoky Mountain Tunes & Tales is a strolling street performance event featuring musical performers\, storytellers\, cloggers and artisans in Gatlinburg.
URL:https://leswilliamsmusic.com/event/smoky-mountain-tunes-and-tales-5/
CATEGORIES:Smoky Mtn Tunes & Tales RBnC
END:VEVENT
BEGIN:VEVENT
DTSTART;TZID=America/New_York:20250706T180000
DTEND;TZID=America/New_York:20250706T220000
DTSTAMP:20260423T024943
CREATED:20250516T125849Z
LAST-MODIFIED:20250516T130055Z
UID:164-1751824800-1751839200@leswilliamsmusic.com
SUMMARY:Smoky Mountain Tunes and Tales
DESCRIPTION:Come to the mountains and eat a funnel cake while enjoying Les perform with Rick Barnes and Cheyenne at Smoky Mountain Tunes & Tales. \nSmoky Mountain Tunes & Tales is a strolling street performance event featuring musical performers\, storytellers\, cloggers and artisans in Gatlinburg.
URL:https://leswilliamsmusic.com/event/smoky-mountain-tunes-and-tales-9/
CATEGORIES:Smoky Mtn Tunes & Tales RBnC
END:VEVENT
BEGIN:VEVENT
DTSTART;TZID=America/New_York:20250705T180000
DTEND;TZID=America/New_York:20250705T220000
DTSTAMP:20260423T024943
CREATED:20250516T125814Z
LAST-MODIFIED:20250516T130036Z
UID:162-1751738400-1751752800@leswilliamsmusic.com
SUMMARY:Smoky Mountain Tunes and Tales
DESCRIPTION:Come to the mountains and eat a funnel cake while enjoying Les perform with Rick Barnes and Cheyenne at Smoky Mountain Tunes & Tales. \nSmoky Mountain Tunes & Tales is a strolling street performance event featuring musical performers\, storytellers\, cloggers and artisans in Gatlinburg.
URL:https://leswilliamsmusic.com/event/smoky-mountain-tunes-and-tales-8/
CATEGORIES:Smoky Mtn Tunes & Tales RBnC
END:VEVENT
BEGIN:VEVENT
DTSTART;TZID=America/New_York:20250704T180000
DTEND;TZID=America/New_York:20250704T220000
DTSTAMP:20260423T024943
CREATED:20250516T125231Z
LAST-MODIFIED:20250516T125235Z
UID:154-1751652000-1751666400@leswilliamsmusic.com
SUMMARY:Smoky Mountain Tunes and Tales
DESCRIPTION:Smoky Mountain Tunes and Tales \nCome to the mountains and eat a funnel cake while enjoying Les perform with Rick Barnes and Cheyenne at Smoky Mountain Tunes & Tales. \nSmoky Mountain Tunes & Tales is a strolling street performance event featuring musical performers\, storytellers\, cloggers and artisans in Gatlinburg.
URL:https://leswilliamsmusic.com/event/smoky-mountain-tunes-and-tales-4/
CATEGORIES:Smoky Mtn Tunes & Tales RBnC
END:VEVENT
BEGIN:VEVENT
DTSTART;TZID=America/New_York:20250702T180000
DTEND;TZID=America/New_York:20250702T220000
DTSTAMP:20260423T024943
CREATED:20250516T125121Z
LAST-MODIFIED:20250516T125129Z
UID:151-1751479200-1751493600@leswilliamsmusic.com
SUMMARY:Smoky Mountain Tunes and Tales
DESCRIPTION:Smoky Mountain Tunes and Tales \nCome to the mountains and eat a funnel cake while enjoying Les perform with Rick Barnes and Cheyenne at Smoky Mountain Tunes & Tales. \nSmoky Mountain Tunes & Tales is a strolling street performance event featuring musical performers\, storytellers\, cloggers and artisans in Gatlinburg.
URL:https://leswilliamsmusic.com/event/smoky-mountain-tunes-and-tales-3/
CATEGORIES:Smoky Mtn Tunes & Tales RBnC
END:VEVENT
BEGIN:VEVENT
DTSTART;TZID=America/New_York:20250630T180000
DTEND;TZID=America/New_York:20250630T220000
DTSTAMP:20260423T024943
CREATED:20250515T132517Z
LAST-MODIFIED:20250515T132521Z
UID:122-1751306400-1751320800@leswilliamsmusic.com
SUMMARY:Smoky Mountain Tunes and Tales
DESCRIPTION:Come to the mountains and eat a funnel cake while enjoying Les perform with Rick Barnes and Cheyenne at Smoky Mountain Tunes & Tales. \nSmoky Mountain Tunes & Tales is a strolling street performance event featuring musical performers\, storytellers\, cloggers and artisans in Gatlinburg.
URL:https://leswilliamsmusic.com/event/smoky-mountain-tunes-and-tales-2/
LOCATION:Tunes and Tales\, Gatlinburg\, TN\, Gatlinburg\, TN\, 37738\, United States
CATEGORIES:Smoky Mtn Tunes & Tales RBnC
ATTACH;FMTTYPE=image/png:https://leswilliamsmusic.com/wp-content/uploads/2025/05/dq8jtvlz.png
END:VEVENT
BEGIN:VEVENT
DTSTART;TZID=America/New_York:20250628T180000
DTEND;TZID=America/New_York:20250628T180000
DTSTAMP:20260423T024943
CREATED:20250515T131855Z
LAST-MODIFIED:20250515T131931Z
UID:118-1751133600-1751133600@leswilliamsmusic.com
SUMMARY:Smoky Mountain Tunes and Tales
DESCRIPTION:Come to the mountains and eat a funnel cake while enjoying Les perform with Rick Barnes and Cheyenne at Smoky Mountain Tunes & Tales. \nSmoky Mountain Tunes & Tales is a strolling street performance event featuring musical performers\, storytellers\, cloggers and artisans in Gatlinburg.
URL:https://leswilliamsmusic.com/event/smoky-mountain-tunes-and-tales/
LOCATION:Tunes and Tales\, Gatlinburg\, TN\, Gatlinburg\, TN\, 37738\, United States
ATTACH;FMTTYPE=image/png:https://leswilliamsmusic.com/wp-content/uploads/2025/05/dq8jtvlz.png
END:VEVENT
BEGIN:VEVENT
DTSTART;TZID=America/New_York:20250625T200000
DTEND;TZID=America/New_York:20250625T200000
DTSTAMP:20260423T024943
CREATED:20250516T124039Z
LAST-MODIFIED:20250516T124049Z
UID:146-1750881600-1750881600@leswilliamsmusic.com
SUMMARY:Moose Lodge Morristown TN
DESCRIPTION:Come on down to the Moose Lodge in Morristown and have a great time of Fun\, Food\, and Music with Les Williams and Rick Barnes & Cheyenne. \nThe Loyal Order Of Moose is a Members only Fraternal Org for supporting Moose Charities and Community Service.
URL:https://leswilliamsmusic.com/event/moose-lodge-morristown-tn/
LOCATION:Moose Lodge 1486 Morristown\, 2565 Buffalo Trl\, Morristown\, TN\, 37814\, United States
CATEGORIES:Bar & Restaurant,Fraternal Organizations - RBnC,RbnC Bar
ATTACH;FMTTYPE=image/jpeg:https://leswilliamsmusic.com/wp-content/uploads/2025/05/LOOM-1486-Morristwon-TN.jpg
END:VEVENT
BEGIN:VEVENT
DTSTART;TZID=America/New_York:20250530T200000
DTEND;TZID=America/New_York:20250530T200000
DTSTAMP:20260423T024943
CREATED:20250515T125458Z
LAST-MODIFIED:20250515T125847Z
UID:112-1748635200-1748635200@leswilliamsmusic.com
SUMMARY:Long Branch Saloon
DESCRIPTION:Friday night fun\, food\, dancing\, booze and music. \nJoin Les performing with Rick Barnes & Cheyenne
URL:https://leswilliamsmusic.com/event/long-branch-saloon/
LOCATION:Long Branch Saloon\, 465 Old Knoxville Hwy\, Newport\, TN\, 37821\, United States
CATEGORIES:Bar & Restaurant,RbnC Bar
ATTACH;FMTTYPE=image/png:https://leswilliamsmusic.com/wp-content/uploads/2025/05/t54898oh.png
END:VEVENT
END:VCALENDAR