BEGIN:VCALENDAR
VERSION:2.0
PRODID:-//LWM - ECPv6.15.3//NONSGML v1.0//EN
CALSCALE:GREGORIAN
METHOD:PUBLISH
X-ORIGINAL-URL:https://leswilliamsmusic.com
X-WR-CALDESC:Events for LWM
REFRESH-INTERVAL;VALUE=DURATION:PT1H
X-Robots-Tag:noindex
X-PUBLISHED-TTL:PT1H
BEGIN:VTIMEZONE
TZID:America/New_York
BEGIN:DAYLIGHT
TZOFFSETFROM:-0500
TZOFFSETTO:-0400
TZNAME:EDT
DTSTART:20250309T070000
END:DAYLIGHT
BEGIN:STANDARD
TZOFFSETFROM:-0400
TZOFFSETTO:-0500
TZNAME:EST
DTSTART:20251102T060000
END:STANDARD
END:VTIMEZONE
BEGIN:VEVENT
DTSTART;TZID=America/New_York:20250808T200000
DTEND;TZID=America/New_York:20250808T200000
DTSTAMP:20260425T065804
CREATED:20250516T134600Z
LAST-MODIFIED:20250516T134655Z
UID:180-1754683200-1754683200@leswilliamsmusic.com
SUMMARY:The New Buds Sports Bar
DESCRIPTION:Such a great little bar out in the middle of everywhere. Les and RBnC has played Bud’s many times over the years and always had so much fun. \nCome out and party with us once again and sample some great food and the best drinks prices around. They are great people to hang and party with.
URL:https://leswilliamsmusic.com/event/the-new-buds-sports-bar-2/
LOCATION:The New Bud’s Sports Bar\, White PinesTN\, 5858 N White Pine Rd\, White Pines\, 37816\, United States
CATEGORIES:RbnC Bar
END:VEVENT
BEGIN:VEVENT
DTSTART;TZID=America/New_York:20250625T200000
DTEND;TZID=America/New_York:20250625T200000
DTSTAMP:20260425T065804
CREATED:20250516T124039Z
LAST-MODIFIED:20250516T124049Z
UID:146-1750881600-1750881600@leswilliamsmusic.com
SUMMARY:Moose Lodge Morristown TN
DESCRIPTION:Come on down to the Moose Lodge in Morristown and have a great time of Fun\, Food\, and Music with Les Williams and Rick Barnes & Cheyenne. \nThe Loyal Order Of Moose is a Members only Fraternal Org for supporting Moose Charities and Community Service.
URL:https://leswilliamsmusic.com/event/moose-lodge-morristown-tn/
LOCATION:Moose Lodge 1486 Morristown\, 2565 Buffalo Trl\, Morristown\, TN\, 37814\, United States
CATEGORIES:Bar & Restaurant,Fraternal Organizations - RBnC,RbnC Bar
ATTACH;FMTTYPE=image/jpeg:https://leswilliamsmusic.com/wp-content/uploads/2025/05/LOOM-1486-Morristwon-TN.jpg
END:VEVENT
BEGIN:VEVENT
DTSTART;TZID=America/New_York:20250530T200000
DTEND;TZID=America/New_York:20250530T200000
DTSTAMP:20260425T065804
CREATED:20250515T125458Z
LAST-MODIFIED:20250515T125847Z
UID:112-1748635200-1748635200@leswilliamsmusic.com
SUMMARY:Long Branch Saloon
DESCRIPTION:Friday night fun\, food\, dancing\, booze and music. \nJoin Les performing with Rick Barnes & Cheyenne
URL:https://leswilliamsmusic.com/event/long-branch-saloon/
LOCATION:Long Branch Saloon\, 465 Old Knoxville Hwy\, Newport\, TN\, 37821\, United States
CATEGORIES:Bar & Restaurant,RbnC Bar
ATTACH;FMTTYPE=image/png:https://leswilliamsmusic.com/wp-content/uploads/2025/05/t54898oh.png
END:VEVENT
END:VCALENDAR